BEGIN:VCALENDAR
PRODID:P. E. Schall GmbH &amp; Co. KG
VERSION:2.0
CALSCALE:GREGORIAN
BEGIN:VEVENT
UID:4fcd74cc1643ef4a81e29c74b4e09d45-calID-schweisstec@schall-messen.de
ORGANIZER;CN="P. E. Schall GmbH & Co. KG":
URL;VALUE=URI:https://www.schweisstec-messe.de/
LOCATION:Messe Stuttgart
SUMMARY:Blechexpo / Schweisstec
DESCRIPTION:Die internationalen Fachmessen für Blechbearbeitung und Fügetechnologie
CLASS:PUBLIC
TZID:Europe_Central
DTSTART:20271026T000000
DTEND:20271029T160000
DTSTAMP:20260425155124Z
END:VEVENT
END:VCALENDAR